BEGIN:VCALENDAR
VERSION:2.0
PRODID:-//Association Romande et francophone de Berne et environs - ECPv6.15.20//NONSGML v1.0//EN
CALSCALE:GREGORIAN
METHOD:PUBLISH
X-WR-CALNAME:Association Romande et francophone de Berne et environs
X-ORIGINAL-URL:https://www.arb-cdb.ch
X-WR-CALDESC:Évènements pour Association Romande et francophone de Berne et environs
REFRESH-INTERVAL;VALUE=DURATION:PT1H
X-Robots-Tag:noindex
X-PUBLISHED-TTL:PT1H
BEGIN:VTIMEZONE
TZID:Europe/Paris
BEGIN:DAYLIGHT
TZOFFSETFROM:+0100
TZOFFSETTO:+0200
TZNAME:CEST
DTSTART:20240331T010000
END:DAYLIGHT
BEGIN:STANDARD
TZOFFSETFROM:+0200
TZOFFSETTO:+0100
TZNAME:CET
DTSTART:20241027T010000
END:STANDARD
BEGIN:DAYLIGHT
TZOFFSETFROM:+0100
TZOFFSETTO:+0200
TZNAME:CEST
DTSTART:20250330T010000
END:DAYLIGHT
BEGIN:STANDARD
TZOFFSETFROM:+0200
TZOFFSETTO:+0100
TZNAME:CET
DTSTART:20251026T010000
END:STANDARD
BEGIN:DAYLIGHT
TZOFFSETFROM:+0100
TZOFFSETTO:+0200
TZNAME:CEST
DTSTART:20260329T010000
END:DAYLIGHT
BEGIN:STANDARD
TZOFFSETFROM:+0200
TZOFFSETTO:+0100
TZNAME:CET
DTSTART:20261025T010000
END:STANDARD
END:VTIMEZONE
BEGIN:VEVENT
DTSTART;TZID=Europe/Paris:20250403T141500
DTEND;TZID=Europe/Paris:20250403T160000
DTSTAMP:20260420T034734
CREATED:20240611T092200Z
LAST-MODIFIED:20240611T092200Z
UID:10121-1743689700-1743696000@www.arb-cdb.ch
SUMMARY:Conférence UNAB
DESCRIPTION:Jean-Claude Martin \nIngénieur-physicien diplômé EPFL\, professeur HES-SO retraité \nDe toutes les couleurs  \nLe physicien\, le peintre\, l’informaticien ou l’imprimeur ont chacun leur définition de la couleur. Visions objectives ou subjectives\, cette présentation fait une synthèse cohérente de ces définitions et modèles adaptés à chaque utilisateur. \nCette page est tirée du site de l’UNAB.
URL:https://www.arb-cdb.ch/event/conference-unab-250403/
LOCATION:Fondation ascaro\, Belpstrasse 37\, 3007 Berne\, Suisse
CATEGORIES:Conférence,Payant pour les non-membres
ORGANIZER;CN="Universit%C3%A9 des A%C3%AEn%C3%A9s de langue fran%C3%A7aise de Berne   ( UNAB )":MAILTO:unab@bluewin.ch
END:VEVENT
BEGIN:VEVENT
DTSTART;TZID=Europe/Paris:20250403T190000
DTEND;TZID=Europe/Paris:20250403T210000
DTSTAMP:20260420T034734
CREATED:20250216T201341Z
LAST-MODIFIED:20250216T202108Z
UID:10769-1743706800-1743714000@www.arb-cdb.ch
SUMMARY:L’Alliance francaise de Berne vous invite à participer à un ATELIER D’ÉCRITURE\, animé par Eugène\, Auteur de nombreux romans\,
DESCRIPTION:Eugène Auteur de nombreux romans\, de recueils de nouvelles et de livres pour la jeunesse\, Eugène enseigne à l’Institut Littéraire Suisse depuis 2006. Son dernier ouvrage\, Lettre à mon dictateur (éd. Slatkine\, 2022) a reçu le Prix Suisse de littérature\, le Prix du Roman des Romands et celui des librairies Payot et Fondation Bataillard. \nDates : 3 avril et 10 avril \nNombre de participants : 10 (si ce quota n’est pas atteint l’atelier sera annulé)\nUne participation de CHF 25.- par soir est demandée à nos membres. Soit CHF 50.- pour les 2 dates. Paiement sur place en espèces.\nRéservation obligatoire Votre demande d’inscription est à envoyer avant le 13 mars 2025. Par courriel à Bénédicte de Lacheisserie : bdelacheisserie@gmx.ch\nVotre inscription vous sera confirmée dans les meilleurs délais. Cordialement\, Bénédicte de Lacheisserie \n 
URL:https://www.arb-cdb.ch/event/lalliance-francaise-de-berne-vous-invite-a-participer-a-un-atelier-decriture-anime-par-eugene-auteur-de-nombreux-romans/
LOCATION:Bibliothèque Centrale de Berne (Universitätsbibliothek Bern)\, Münstergasse 61\, Berne\, Berne\, 3011
CATEGORIES:Cours,Payant,sur plusieurs jours
END:VEVENT
END:VCALENDAR