BEGIN:VCALENDAR
VERSION:2.0
PRODID:-//Association Romande et francophone de Berne et environs - ECPv6.15.20//NONSGML v1.0//EN
CALSCALE:GREGORIAN
METHOD:PUBLISH
X-WR-CALNAME:Association Romande et francophone de Berne et environs
X-ORIGINAL-URL:https://www.arb-cdb.ch
X-WR-CALDESC:Évènements pour Association Romande et francophone de Berne et environs
REFRESH-INTERVAL;VALUE=DURATION:PT1H
X-Robots-Tag:noindex
X-PUBLISHED-TTL:PT1H
BEGIN:VTIMEZONE
TZID:Europe/Paris
BEGIN:DAYLIGHT
TZOFFSETFROM:+0100
TZOFFSETTO:+0200
TZNAME:CEST
DTSTART:20240331T010000
END:DAYLIGHT
BEGIN:STANDARD
TZOFFSETFROM:+0200
TZOFFSETTO:+0100
TZNAME:CET
DTSTART:20241027T010000
END:STANDARD
BEGIN:DAYLIGHT
TZOFFSETFROM:+0100
TZOFFSETTO:+0200
TZNAME:CEST
DTSTART:20250330T010000
END:DAYLIGHT
BEGIN:STANDARD
TZOFFSETFROM:+0200
TZOFFSETTO:+0100
TZNAME:CET
DTSTART:20251026T010000
END:STANDARD
BEGIN:DAYLIGHT
TZOFFSETFROM:+0100
TZOFFSETTO:+0200
TZNAME:CEST
DTSTART:20260329T010000
END:DAYLIGHT
BEGIN:STANDARD
TZOFFSETFROM:+0200
TZOFFSETTO:+0100
TZNAME:CET
DTSTART:20261025T010000
END:STANDARD
END:VTIMEZONE
BEGIN:VEVENT
DTSTART;TZID=Europe/Paris:20250402T193000
DTEND;TZID=Europe/Paris:20250402T213000
DTSTAMP:20260420T034712
CREATED:20250319T000242Z
LAST-MODIFIED:20250319T000242Z
UID:11117-1743622200-1743629400@www.arb-cdb.ch
SUMMARY:Ciné Débat Rencontres vous invite à la projection du film Jappeloup.
DESCRIPTION:Au début des années 80\, abandonnant une carrière d’avocat prometteuse\, Pierre Durand se consacre corps et âme à sa passion\, le saut d’obstacle. Soutenu par son père\, il mise tout sur un jeune cheval auquel personne ne croit vraiment : Jappeloup.
URL:https://www.arb-cdb.ch/event/cine-debat-rencontres-vous-invite-a-la-projection-du-film-jappeloup/
LOCATION:Cinéma Lichtspiel\, Sandrainstrasse 3\, 3007 Berne\, Suisse
CATEGORIES:Film projeté en français
END:VEVENT
END:VCALENDAR