BEGIN:VCALENDAR
VERSION:2.0
PRODID:-//Association Romande et francophone de Berne et environs - ECPv6.15.20//NONSGML v1.0//EN
CALSCALE:GREGORIAN
METHOD:PUBLISH
X-ORIGINAL-URL:https://www.arb-cdb.ch
X-WR-CALDESC:Évènements pour Association Romande et francophone de Berne et environs
REFRESH-INTERVAL;VALUE=DURATION:PT1H
X-Robots-Tag:noindex
X-PUBLISHED-TTL:PT1H
BEGIN:VTIMEZONE
TZID:Europe/Paris
BEGIN:DAYLIGHT
TZOFFSETFROM:+0100
TZOFFSETTO:+0200
TZNAME:CEST
DTSTART:20240331T010000
END:DAYLIGHT
BEGIN:STANDARD
TZOFFSETFROM:+0200
TZOFFSETTO:+0100
TZNAME:CET
DTSTART:20241027T010000
END:STANDARD
BEGIN:DAYLIGHT
TZOFFSETFROM:+0100
TZOFFSETTO:+0200
TZNAME:CEST
DTSTART:20250330T010000
END:DAYLIGHT
BEGIN:STANDARD
TZOFFSETFROM:+0200
TZOFFSETTO:+0100
TZNAME:CET
DTSTART:20251026T010000
END:STANDARD
BEGIN:DAYLIGHT
TZOFFSETFROM:+0100
TZOFFSETTO:+0200
TZNAME:CEST
DTSTART:20260329T010000
END:DAYLIGHT
BEGIN:STANDARD
TZOFFSETFROM:+0200
TZOFFSETTO:+0100
TZNAME:CET
DTSTART:20261025T010000
END:STANDARD
END:VTIMEZONE
BEGIN:VEVENT
DTSTART;TZID=Europe/Paris:20250313T141500
DTEND;TZID=Europe/Paris:20250313T160000
DTSTAMP:20260420T065113
CREATED:20240611T091526Z
LAST-MODIFIED:20240611T091526Z
UID:10115-1741875300-1741881600@www.arb-cdb.ch
SUMMARY:Conférence UNAB
DESCRIPTION:Célia Sapart \nClimatologue et glaciologue suisse \nChangements climatiques: Apprendre du Passé pour Préparer Notre Futur \nLes changements climatiques font aujourd’hui partie du quotidien\, mais beaucoup de messages faussés circulent encore à leur sujet. Comment sait-on que le climat change? Quelles en sont les causes? Quelles sont les solutions pour atténuer les risques liés à ces changements? Allons-nous être capables de nous adapter? \nA travers ses récits d’expéditions polaires\, ses recherches et son travail au front de l’action climatique\, Célia Sapart répondra à ces questions et fera un état des lieux des connaissances sur l’état de notre climat tout en mettant en avant les solutions qui existent à tous les nouveaux de notre société pour créer des futurs souhaitables. \nCette page est tirée du site de l’UNAB.
URL:https://www.arb-cdb.ch/event/conference-unab-250313/
LOCATION:Fondation ascaro\, Belpstrasse 37\, 3007 Berne\, Suisse
CATEGORIES:Conférence,Payant pour les non-membres
ORGANIZER;CN="Universit%C3%A9 des A%C3%AEn%C3%A9s de langue fran%C3%A7aise de Berne   ( UNAB )":MAILTO:unab@bluewin.ch
END:VEVENT
BEGIN:VEVENT
DTSTART;TZID=Europe/Paris:20250313T181500
DTEND;TZID=Europe/Paris:20250313T210000
DTSTAMP:20260420T065113
CREATED:20250309T192028Z
LAST-MODIFIED:20250309T192520Z
UID:11108-1741889700-1741899600@www.arb-cdb.ch
SUMMARY:Cine Debat Rencontres vous invite à la projection du film " Le voyage d'Inuk " de Mike Magidson et à la deuxième édition de l’Aare de lire\, prix littéraire de la jeunesse bernoise.
DESCRIPTION:Découverte du Groënland sur les traces de Mike Magidson\, un périple vers le Grand Nord en compagnie d’Inuk\, un adolescent\, et Ikuma\, un chasseur d’ours. \n18h15 : Accueil et buffet\n19h20 : Remise du prix Littéraire l’Aare de lire suivie de la projection du film  » Le voyage d’Inuk  » \nInscriptions jusqu’au mardi 11 mars par mail :inscriptioncdr@gmail.com \n  \n  \n 
URL:https://www.arb-cdb.ch/event/cine-debat-rencontres-vous-invite-a-la-projection-du-film-le-voyage-dinuk-de-mike-magidson-et-a-la-deuxieme-edition-de-laare-de-lire-prix-litteraire-de-la-jeunesse-bernoise/
LOCATION:Freies Gymnasium\, Beaulieustrasse 55\, 3012 Berne\, Suisse
CATEGORIES:Film projeté en français
END:VEVENT
END:VCALENDAR