BEGIN:VCALENDAR
VERSION:2.0
PRODID:-//Association Romande et francophone de Berne et environs - ECPv6.15.20//NONSGML v1.0//EN
CALSCALE:GREGORIAN
METHOD:PUBLISH
X-WR-CALNAME:Association Romande et francophone de Berne et environs
X-ORIGINAL-URL:https://www.arb-cdb.ch
X-WR-CALDESC:Évènements pour Association Romande et francophone de Berne et environs
REFRESH-INTERVAL;VALUE=DURATION:PT1H
X-Robots-Tag:noindex
X-PUBLISHED-TTL:PT1H
BEGIN:VTIMEZONE
TZID:Europe/Paris
BEGIN:DAYLIGHT
TZOFFSETFROM:+0100
TZOFFSETTO:+0200
TZNAME:CEST
DTSTART:20240331T010000
END:DAYLIGHT
BEGIN:STANDARD
TZOFFSETFROM:+0200
TZOFFSETTO:+0100
TZNAME:CET
DTSTART:20241027T010000
END:STANDARD
BEGIN:DAYLIGHT
TZOFFSETFROM:+0100
TZOFFSETTO:+0200
TZNAME:CEST
DTSTART:20250330T010000
END:DAYLIGHT
BEGIN:STANDARD
TZOFFSETFROM:+0200
TZOFFSETTO:+0100
TZNAME:CET
DTSTART:20251026T010000
END:STANDARD
BEGIN:DAYLIGHT
TZOFFSETFROM:+0100
TZOFFSETTO:+0200
TZNAME:CEST
DTSTART:20260329T010000
END:DAYLIGHT
BEGIN:STANDARD
TZOFFSETFROM:+0200
TZOFFSETTO:+0100
TZNAME:CET
DTSTART:20261025T010000
END:STANDARD
END:VTIMEZONE
BEGIN:VEVENT
DTSTART;TZID=Europe/Paris:20250227T141500
DTEND;TZID=Europe/Paris:20250227T160000
DTSTAMP:20260420T004823
CREATED:20240611T091148Z
LAST-MODIFIED:20240611T091148Z
UID:10111-1740665700-1740672000@www.arb-cdb.ch
SUMMARY:Conférence UNAB
DESCRIPTION:René Spalinger \nMusicien\, chef d’orchestre et conférencier \nJoseph Haydn ou la symphonie incarnée \nJoseph Haydn peut être considéré comme le véritable maître de la symphonie. De l’époque baroque à l’aube du romantisme\, il n’écrit pas moins de cent symphonies\, manifestant une attitude bien précise: penser en symphonie; c’est la marque du vrai symphoniste et aussi celle d’une grande aventure de l’esprit humain! Haydn mentionnait souvent\, en en-tête ou en conclusion de son travail «In Nomine Domini» ou «Finis\, Laus Deo»\, origine essentielle de son inspiration! \nNous plongerons avec délice dans cet univers dont la marque essentielle est l’équilibre des sentiments après le passage tumultueux du Sturm und Drang (Tempête et passion)\, enfin épanoui dans les symphonies dites «Parisiennes» et «Londonienne» sans oublier\, auparavant\, l’origine baroque de ces œuvres. \nCette page est tirée du site de l’UNAB.
URL:https://www.arb-cdb.ch/event/conference-unab-25027/
LOCATION:Fondation ascaro\, Belpstrasse 37\, 3007 Berne\, Suisse
CATEGORIES:Conférence,Payant pour les non-membres
ORGANIZER;CN="Universit%C3%A9 des A%C3%AEn%C3%A9s de langue fran%C3%A7aise de Berne   ( UNAB )":MAILTO:unab@bluewin.ch
END:VEVENT
BEGIN:VEVENT
DTSTART;TZID=Europe/Paris:20250227T183000
DTEND;TZID=Europe/Paris:20250227T210000
DTSTAMP:20260420T004823
CREATED:20250224T185601Z
LAST-MODIFIED:20250224T185943Z
UID:11025-1740681000-1740690000@www.arb-cdb.ch
SUMMARY:Cine Debat Rencontres vous invite à la projection du film "Le Havre" en présence de Cécile Alix\, "Prix RTS de Littérature 2023"  pour son roman "Animal"
DESCRIPTION:
URL:https://www.arb-cdb.ch/event/cine-debat-rencontres-vous-invite-a-la-projection-du-film-le-havre-en-presence-de-cecile-alix-prix-rts-de-litterature-2023-prix-litterature-2023/
LOCATION:Freies Gymnasium\, Beaulieustrasse 55\, 3012 Berne\, Suisse
CATEGORIES:Film projeté en français
END:VEVENT
BEGIN:VEVENT
DTSTART;TZID=Europe/Paris:20250227T193000
DTEND;TZID=Europe/Paris:20250227T193000
DTSTAMP:20260420T004823
CREATED:20250204T161113Z
LAST-MODIFIED:20250204T162308Z
UID:10971-1740684600-1740684600@www.arb-cdb.ch
SUMMARY:Concert du Neue Zürcher Orcherter
DESCRIPTION:Le Neue Zürcher Orcherter (NZO) organise un concert « Feurige Klassik 7.0 »\nà la Nydeggkirche à Berne le 27 février 2025 à 19 h 30.
URL:https://www.arb-cdb.ch/event/concert-du-neue-zuercher-orcherter-2025/
LOCATION:Nydeggkirche\, Nydeggasse\, 3011 Bern\, Switzerland
CATEGORIES:Musique,Ouvert à tous,Payant
END:VEVENT
END:VCALENDAR