BEGIN:VCALENDAR
VERSION:2.0
PRODID:-//Association Romande et francophone de Berne et environs - ECPv6.15.20//NONSGML v1.0//EN
CALSCALE:GREGORIAN
METHOD:PUBLISH
X-WR-CALNAME:Association Romande et francophone de Berne et environs
X-ORIGINAL-URL:https://www.arb-cdb.ch
X-WR-CALDESC:Évènements pour Association Romande et francophone de Berne et environs
REFRESH-INTERVAL;VALUE=DURATION:PT1H
X-Robots-Tag:noindex
X-PUBLISHED-TTL:PT1H
BEGIN:VTIMEZONE
TZID:Europe/Paris
BEGIN:DAYLIGHT
TZOFFSETFROM:+0100
TZOFFSETTO:+0200
TZNAME:CEST
DTSTART:20220327T010000
END:DAYLIGHT
BEGIN:STANDARD
TZOFFSETFROM:+0200
TZOFFSETTO:+0100
TZNAME:CET
DTSTART:20221030T010000
END:STANDARD
BEGIN:DAYLIGHT
TZOFFSETFROM:+0100
TZOFFSETTO:+0200
TZNAME:CEST
DTSTART:20230326T010000
END:DAYLIGHT
BEGIN:STANDARD
TZOFFSETFROM:+0200
TZOFFSETTO:+0100
TZNAME:CET
DTSTART:20231029T010000
END:STANDARD
BEGIN:DAYLIGHT
TZOFFSETFROM:+0100
TZOFFSETTO:+0200
TZNAME:CEST
DTSTART:20240331T010000
END:DAYLIGHT
BEGIN:STANDARD
TZOFFSETFROM:+0200
TZOFFSETTO:+0100
TZNAME:CET
DTSTART:20241027T010000
END:STANDARD
END:VTIMEZONE
BEGIN:VEVENT
DTSTART;TZID=Europe/Paris:20231031T141500
DTEND;TZID=Europe/Paris:20231031T160000
DTSTAMP:20260422T110831
CREATED:20230808T151830Z
LAST-MODIFIED:20230809T090519Z
UID:9140-1698761700-1698768000@www.arb-cdb.ch
SUMMARY:Séminaire UNAB de M. Patrick LABARTHE (3/3)
DESCRIPTION:Séminaire en trois volets de M. Patrick LABARTHE\n\nProfesseur émérite de littérature française \nRimbaud & Verlaine\, 1872-1873: une liaison en poésie\n(3e partie)\n\n\n\n\n\n\n  \n\n\n\n\n\n\n\n\n\n\nInscription: ici \nDocumentation: ici \nCette page est tirée du site de l’UNAB.
URL:https://www.arb-cdb.ch/event/seminaire-unab-231031/
LOCATION:Université de Berne\, Hochschulstrasse 4\, Berne\, 3012\, Suisse
CATEGORIES:Payant,Payant pour les non-membres,Séminaire
ORGANIZER;CN="Universit%C3%A9 des A%C3%AEn%C3%A9s de langue fran%C3%A7aise de Berne   ( UNAB )":MAILTO:unab@bluewin.ch
END:VEVENT
BEGIN:VEVENT
DTSTART;TZID=Europe/Paris:20231031T190000
DTEND;TZID=Europe/Paris:20231031T200000
DTSTAMP:20260422T110831
CREATED:20231029T202754Z
LAST-MODIFIED:20231029T203924Z
UID:9402-1698778800-1698782400@www.arb-cdb.ch
SUMMARY:Alliance Française de Berne. Elisa Shua Dusapin parlera de son dernier roman Le vieil incendie avec Thierry Raboud\, journaliste culturel au quotidien La Liberté.
DESCRIPTION:Née en 1992 à Sarlat-la-Canéda d’un père français et d’une mère sud-coréenne\, Elisa Shua Dusapin grandit entre Paris\, Séoul et Porrentruy. Son premier roman\, Hiver à Sokcho (Zoé\, 2016) obtient le prix Robert Walser. Ce premier livre est plusieurs fois adapté au théâtre et\, en 2021\, sa traduction anglaise reçoit le National Book Award for Translated Literature. Suivent Les Billes du Pachinko (Zoé\, 2018)\, Prix suisse de littérature\, et Vladivostok Circus (Zoé\, 2020)\, sélectionné pour le prix Femina. Ses trois romans sont traduits dans plus de 35 langues.
URL:https://www.arb-cdb.ch/event/elisa-shua-dusapin-parlera-de-son-dernier-roman-le-vieil-incendie-avec-thierry-raboud-journaliste-culturel-au-quotidien-la-liberte/
LOCATION:Mediothek (anciennement Schulwarte)\, Helvetiaplatz 2\, 3005 Berne
END:VEVENT
END:VCALENDAR