BEGIN:VCALENDAR
VERSION:2.0
PRODID:-//Association Romande et francophone de Berne et environs - ECPv6.15.20//NONSGML v1.0//EN
CALSCALE:GREGORIAN
METHOD:PUBLISH
X-ORIGINAL-URL:https://www.arb-cdb.ch
X-WR-CALDESC:Évènements pour Association Romande et francophone de Berne et environs
REFRESH-INTERVAL;VALUE=DURATION:PT1H
X-Robots-Tag:noindex
X-PUBLISHED-TTL:PT1H
BEGIN:VTIMEZONE
TZID:Europe/Paris
BEGIN:DAYLIGHT
TZOFFSETFROM:+0100
TZOFFSETTO:+0200
TZNAME:CEST
DTSTART:20210328T010000
END:DAYLIGHT
BEGIN:STANDARD
TZOFFSETFROM:+0200
TZOFFSETTO:+0100
TZNAME:CET
DTSTART:20211031T010000
END:STANDARD
BEGIN:DAYLIGHT
TZOFFSETFROM:+0100
TZOFFSETTO:+0200
TZNAME:CEST
DTSTART:20220327T010000
END:DAYLIGHT
BEGIN:STANDARD
TZOFFSETFROM:+0200
TZOFFSETTO:+0100
TZNAME:CET
DTSTART:20221030T010000
END:STANDARD
BEGIN:DAYLIGHT
TZOFFSETFROM:+0100
TZOFFSETTO:+0200
TZNAME:CEST
DTSTART:20230326T010000
END:DAYLIGHT
BEGIN:STANDARD
TZOFFSETFROM:+0200
TZOFFSETTO:+0100
TZNAME:CET
DTSTART:20231029T010000
END:STANDARD
END:VTIMEZONE
BEGIN:VEVENT
DTSTART;TZID=Europe/Paris:20221124T141500
DTEND;TZID=Europe/Paris:20221124T160000
DTSTAMP:20260419T182414
CREATED:20221116T125556Z
LAST-MODIFIED:20221121T145627Z
UID:8262-1669299300-1669305600@www.arb-cdb.ch
SUMMARY:Conférence UNAB - ANNULÉ
DESCRIPTION:CONFÉRENCE ANNULÉE POUR CAUSE DE MALADIE \nM. Pierre CLEITMAN \nComédien\, musicien et conférencier\, Paris \nLa dernière ordonnance du docteur Nietzsche\nC’est paradoxalement – mais est-ce vraiment un paradoxe – dans les derniers mois de sa vie lucide\, juste avant de sombrer dans la folie\, que Nietzsche va définir avec le plus grand luxe de détails les conditions nécessaires à la conquête et au maintien de la santé\, de la grande santé. Des conditions très concrètes : que faut-il boire et ne pas boire ? Manger ou ne pas manger ? Avec qui est-il permis de parler et quand faut-il absolument se taire ? Dans quelle ville peut-on le mieux penser? Dans quelle langue et sous quel climat? Et surtout\, art suprême\, comment tirer parti de sa ou de ses maladies pour vivre encore plus intensément ? Au rebours des conseils de modération\, loin de la médiocrité du juste milieu\, c’est tout un art paradoxal de la nuance et de la subtilité au cœur même de l’excès qui nous est proposé. D’une actualité\, ou plutôt d’une inactualité toujours brûlante ! Car contre les ravages de la métaphore abusée\, de l’euphémisme hébété\, de l’hyperbole dégriffée\, de la langue de bois déstockée\, la lecture de Nietzsche demeure aujourd’hui comme hier un traitement de choc et qui continue de faire ses preuves. \n\n\n\n\n\n\n\n\n\nCette page est tirée du site de l’UNAB.
URL:https://www.arb-cdb.ch/event/conference-unab-221124/
LOCATION:Fondation ascaro\, Belpstrasse 37\, 3007 Berne\, Suisse
CATEGORIES:Conférence,Payant pour les non-membres
ORGANIZER;CN="Universit%C3%A9 des A%C3%AEn%C3%A9s de langue fran%C3%A7aise de Berne   ( UNAB )":MAILTO:unab@bluewin.ch
END:VEVENT
END:VCALENDAR