BEGIN:VCALENDAR
VERSION:2.0
PRODID:-//Association Romande et francophone de Berne et environs - ECPv6.15.20//NONSGML v1.0//EN
CALSCALE:GREGORIAN
METHOD:PUBLISH
X-WR-CALNAME:Association Romande et francophone de Berne et environs
X-ORIGINAL-URL:https://www.arb-cdb.ch
X-WR-CALDESC:Évènements pour Association Romande et francophone de Berne et environs
REFRESH-INTERVAL;VALUE=DURATION:PT1H
X-Robots-Tag:noindex
X-PUBLISHED-TTL:PT1H
BEGIN:VTIMEZONE
TZID:Europe/Paris
BEGIN:DAYLIGHT
TZOFFSETFROM:+0100
TZOFFSETTO:+0200
TZNAME:CEST
DTSTART:20210328T010000
END:DAYLIGHT
BEGIN:STANDARD
TZOFFSETFROM:+0200
TZOFFSETTO:+0100
TZNAME:CET
DTSTART:20211031T010000
END:STANDARD
BEGIN:DAYLIGHT
TZOFFSETFROM:+0100
TZOFFSETTO:+0200
TZNAME:CEST
DTSTART:20220327T010000
END:DAYLIGHT
BEGIN:STANDARD
TZOFFSETFROM:+0200
TZOFFSETTO:+0100
TZNAME:CET
DTSTART:20221030T010000
END:STANDARD
BEGIN:DAYLIGHT
TZOFFSETFROM:+0100
TZOFFSETTO:+0200
TZNAME:CEST
DTSTART:20230326T010000
END:DAYLIGHT
BEGIN:STANDARD
TZOFFSETFROM:+0200
TZOFFSETTO:+0100
TZNAME:CET
DTSTART:20231029T010000
END:STANDARD
END:VTIMEZONE
BEGIN:VEVENT
DTSTART;TZID=Europe/Paris:20220519T141500
DTEND;TZID=Europe/Paris:20220519T161500
DTSTAMP:20260419T164750
CREATED:20210719T071722Z
LAST-MODIFIED:20210719T071902Z
UID:6679-1652969700-1652976900@www.arb-cdb.ch
SUMMARY:Conférence UNAB
DESCRIPTION:Dr Joy RIVAULT\nDocteure en Histoire\, Civilisations\, Archéologie des Mondes antiques\nChercheuse associée à l’Institut Ausonius\, Université Bordeaux-Montaigne et à l’Institut Français d’Études Anatoliennes\, Istanbul \nL’archéologie en Grèce et en Turquie: sur les traces des vestiges antiques\nQu’est-ce que l’archéologie ? Loin des stéréotypes diffusés par le cinéma hollywoodien\, l’archéologie est une discipline scientifique en perpétuelle évolution. Plus enquêteur qu’aventurier\, l’archéologue doit reconstituer les évènements du passé à partir des traces que les civilisations ont laissées et que le temps a conservées\, aujourd’hui grâce à des outils technologiques de plus en plus performants. Plus les vestiges sont anciens\, plus ils sont fragmentaires et difficiles à interpréter.\nCette conférence propose ainsi de présenter les réalités auxquelles un archéologue est confronté sur le terrain. De la Grèce à la Turquie\, il s’agit d’un voyage au cœur de l’Antiquité\, sur les traces des populations de la Grèce ancienne\, illustré par les plus belles découvertes archéologiques du siècle. \n\n\n\n\n\n\n\n\n\nCette page est tirée du site de l’UNAB.
URL:https://www.arb-cdb.ch/event/conference-unab-220519/
LOCATION:Musée d’histoire naturelle\, Bernastrasse 15\, 3005 Berne\, Suisse
CATEGORIES:Conférence,Payant pour les non-membres
ORGANIZER;CN="Universit%C3%A9 des A%C3%AEn%C3%A9s de langue fran%C3%A7aise de Berne   ( UNAB )":MAILTO:unab@bluewin.ch
END:VEVENT
BEGIN:VEVENT
DTSTART;TZID=Europe/Paris:20220519T190000
DTEND;TZID=Europe/Paris:20220519T190000
DTSTAMP:20260419T164750
CREATED:20220223T193207Z
LAST-MODIFIED:20220420T195702Z
UID:7434-1652986800-1652986800@www.arb-cdb.ch
SUMMARY:Les jeudis francophones
DESCRIPTION:L’association 1\,2\,3… chansons a perdu son lieu habituel\, le Theater Z\, fin 2021. Elle nous revient toutefois en 2022 avec un nouveau programme qui vous est proposé au 5Ième étage accompagné de plaisirs gastronomiques si vous le souhaitez.\nVenez découvrie des artistes émergeants ou confirmés qui saurons vous enthousiasmer et vous étonner.
URL:https://www.arb-cdb.ch/event/les-jeudis-francophones/
LOCATION:5Ième Etage\, Mühlenplatz 11\, Berne\, 3011\, Switzerland
CATEGORIES:Animation,Musique,Payant
END:VEVENT
BEGIN:VEVENT
DTSTART;TZID=Europe/Paris:20220519T193000
DTEND;TZID=Europe/Paris:20220519T213000
DTSTAMP:20260419T164750
CREATED:20220303T092511Z
LAST-MODIFIED:20220303T100553Z
UID:7523-1652988600-1652995800@www.arb-cdb.ch
SUMMARY:Sortie Photo de rue
DESCRIPTION:pLe Photo-Club Francophone de Berne (PFB) se réuni chaque 3e jeudi du mois.\nCette réunion sera animée par Anne.\nLe programme des réunions est ici\net ici pour tout contact et informations sur le PFB\nVous êtes cordialement invité à participer à quelques réunions qui vous intéressent avant de vous inscrire.
URL:https://www.arb-cdb.ch/event/pfb-sortie-photo-de-rue/
LOCATION:Paroisse catholique de langue française de Berne\, Sulgeneckstrasse 13\, 3013 Berne\, Suisse
CATEGORIES:Ouvert à tous,Réunion
ORGANIZER;CN="Photo-Club Francophone de Berne":MAILTO:info@photoclubberne.ch
END:VEVENT
END:VCALENDAR