BEGIN:VCALENDAR
VERSION:2.0
PRODID:-//Association Romande et francophone de Berne et environs - ECPv6.15.20//NONSGML v1.0//EN
CALSCALE:GREGORIAN
METHOD:PUBLISH
X-ORIGINAL-URL:https://www.arb-cdb.ch
X-WR-CALDESC:Évènements pour Association Romande et francophone de Berne et environs
REFRESH-INTERVAL;VALUE=DURATION:PT1H
X-Robots-Tag:noindex
X-PUBLISHED-TTL:PT1H
BEGIN:VTIMEZONE
TZID:Europe/Paris
BEGIN:DAYLIGHT
TZOFFSETFROM:+0100
TZOFFSETTO:+0200
TZNAME:CEST
DTSTART:20210328T010000
END:DAYLIGHT
BEGIN:STANDARD
TZOFFSETFROM:+0200
TZOFFSETTO:+0100
TZNAME:CET
DTSTART:20211031T010000
END:STANDARD
BEGIN:DAYLIGHT
TZOFFSETFROM:+0100
TZOFFSETTO:+0200
TZNAME:CEST
DTSTART:20220327T010000
END:DAYLIGHT
BEGIN:STANDARD
TZOFFSETFROM:+0200
TZOFFSETTO:+0100
TZNAME:CET
DTSTART:20221030T010000
END:STANDARD
BEGIN:DAYLIGHT
TZOFFSETFROM:+0100
TZOFFSETTO:+0200
TZNAME:CEST
DTSTART:20230326T010000
END:DAYLIGHT
BEGIN:STANDARD
TZOFFSETFROM:+0200
TZOFFSETTO:+0100
TZNAME:CET
DTSTART:20231029T010000
END:STANDARD
END:VTIMEZONE
BEGIN:VEVENT
DTSTART;TZID=Europe/Paris:20220308T140000
DTEND;TZID=Europe/Paris:20220308T163000
DTSTAMP:20260422T173725
CREATED:20210719T082111Z
LAST-MODIFIED:20210719T082111Z
UID:6725-1646748000-1646757000@www.arb-cdb.ch
SUMMARY:Séminaire UNAB de Mme Liselotte GOLLO (1/2)
DESCRIPTION:Séminaire en deux volets de Mme Liselotte GOLLO\n\nHistorienne de l’art \nPaul Cézanne\, oeuvre et héritage (1re partie)\n\n\n\n\n\n\n\n\n\nPaul Cézanne [1838-1906]. Peintre ermite\, solitaire\, exigeant\, intransigeant. Artiste prédestiné à devenir son œuvre\, à ne vivre qu’en fonction de son art\, sans calculs ni vanité. Artiste devenu modèle pour les jeunes générations\, élevé au plus haut niveau frôlant le sacré. Symbole de nouveauté pour des collectionneurs éclairés\, décrié par la critique. «Cézanne est un barbouilleur ignorant»\, écrit Jules­-Antoine Castagnary en 1874. \nPeintre incompris de son vivant\, peintre exclu des expositions officielles\, mais peintre possédé par la passion quasi religieuse de son art qui le guidait malgré tout et contre tous. Ami fidèle de Zola et d’Émile Bernard\, admirateur de Monet et de Renoir. Homme critique et critiqué. Style unique\, nouvelle touche\, lumière\, motifs en série\, géométrie de la forme. \nPaysages\, nature morte\, baigneuses. La tradition devient modernité\, le classicisme s’achemine vers une dimension inconnue. La nature est sublimée\, le sud de la France\, Aix­en­ Provence\, la montagne Sainte­Victoire\, ses obsessions. \nQui est Paul Cézanne\, quel était son rapport à l’impression­ nisme\, à son époque ? «Notre père à tous» disait Picasso\, «le maître par excellence» écrit Klee\, «une sorte de bon Dieu de la peinture» selon Matisse\, il est aussi celui qui a su «redonner une âme à la peinture» d’après Kandinsky. \n\n\n\n\n\n\n\n\n\n\n\n\n\nInscription: ici \nDocumantation: ici \nCette page est tirée du site de l’UNAB.
URL:https://www.arb-cdb.ch/event/seminaire-unab-de-mme-liselotte-gollo-1-2-220308/
LOCATION:Université de Berne\, Hochschulstrasse 4\, Berne\, 3012\, Suisse
CATEGORIES:Payant,Payant pour les non-membres,Séminaire
ORGANIZER;CN="Universit%C3%A9 des A%C3%AEn%C3%A9s de langue fran%C3%A7aise de Berne   ( UNAB )":MAILTO:unab@bluewin.ch
END:VEVENT
BEGIN:VEVENT
DTSTART;TZID=Europe/Paris:20220308T190000
DTEND;TZID=Europe/Paris:20220308T210000
DTSTAMP:20260422T173725
CREATED:20220226T153852Z
LAST-MODIFIED:20220227T150059Z
UID:7455-1646766000-1646773200@www.arb-cdb.ch
SUMMARY:Conférence de Daniel Roulet
DESCRIPTION:
URL:https://www.arb-cdb.ch/event/conference-de-daniel-roulet/
LOCATION:Schulwarte\, Helvetiaplatz 2\, 3005 Berne\, Switzerland
CATEGORIES:Conférence,Ouvert à tous
END:VEVENT
END:VCALENDAR