BEGIN:VCALENDAR
VERSION:2.0
PRODID:-//Association Romande et francophone de Berne et environs - ECPv6.15.20//NONSGML v1.0//EN
CALSCALE:GREGORIAN
METHOD:PUBLISH
X-WR-CALNAME:Association Romande et francophone de Berne et environs
X-ORIGINAL-URL:https://www.arb-cdb.ch
X-WR-CALDESC:Évènements pour Association Romande et francophone de Berne et environs
REFRESH-INTERVAL;VALUE=DURATION:PT1H
X-Robots-Tag:noindex
X-PUBLISHED-TTL:PT1H
BEGIN:VTIMEZONE
TZID:Europe/Paris
BEGIN:DAYLIGHT
TZOFFSETFROM:+0100
TZOFFSETTO:+0200
TZNAME:CEST
DTSTART:20200329T010000
END:DAYLIGHT
BEGIN:STANDARD
TZOFFSETFROM:+0200
TZOFFSETTO:+0100
TZNAME:CET
DTSTART:20201025T010000
END:STANDARD
BEGIN:DAYLIGHT
TZOFFSETFROM:+0100
TZOFFSETTO:+0200
TZNAME:CEST
DTSTART:20210328T010000
END:DAYLIGHT
BEGIN:STANDARD
TZOFFSETFROM:+0200
TZOFFSETTO:+0100
TZNAME:CET
DTSTART:20211031T010000
END:STANDARD
BEGIN:DAYLIGHT
TZOFFSETFROM:+0100
TZOFFSETTO:+0200
TZNAME:CEST
DTSTART:20220327T010000
END:DAYLIGHT
BEGIN:STANDARD
TZOFFSETFROM:+0200
TZOFFSETTO:+0100
TZNAME:CET
DTSTART:20221030T010000
END:STANDARD
END:VTIMEZONE
BEGIN:VEVENT
DTSTART;TZID=Europe/Paris:20211216T141500
DTEND;TZID=Europe/Paris:20211216T161500
DTSTAMP:20260419T161444
CREATED:20210719T063610Z
LAST-MODIFIED:20210719T073631Z
UID:6651-1639664100-1639671300@www.arb-cdb.ch
SUMMARY:Conférence UNAB
DESCRIPTION:M. Alain SCHÄRLIG\nMathématicien et professeur honoraire à la Faculté des HEC de l’Université de Lausanne \nM. Jérôme GAVIN\nEnseignant en mathématiques au Collège Voltaire et directeur de l’ARA (Association des Répertoires AJETA) \n\n\n\n\n\n\n\n\n\n\n\n\n\n\n\nEt l’algèbre fut!\n\n\n\n\n\n\n\n\n\n\n\n\n\n\n\n\n\n\n\n\n\n\n\n\n\n\n\n\n\n\n\n\n\n\n\n\n\n\n\n\n\n\n\n\n\n\n\n\n\n\n\n\n\n\n\n\n\n\n\n\n\n\n\n\n\n\n\n\n\n\n\n\n\n\n\n\n\n\n\n\n\nQuand on vous parle d’algèbre\, vous pensez certainement à un cortège de lettres et de chiffres\, entrelardés de signes mathématiques\, avec un x ou un y quelque part. Et quand les conférenciers vous diront que l’algèbre est née au début du 9e siècle\, c’est certainement cette image qui vous viendra à l’esprit.\nCe serait dommage\, car ce serait une erreur !\nL’algèbre n’était en réalité\, à sa naissance\, qu’une suite de phrases\, difficiles à comprendre\, sans aucun des signes que l’on connaît maintenant – le signe = ne date par exemple que du 16e siècle –\, sans les lettres et les x qui en font pour nous tout le charme (!)\, et même sans aucun chiffre car les nombres y figuraient en toutes lettres.\nCe sont ces débuts que vous exposeront les conférenciers\, qui feront comme si aucun d’entre vous n’avait jamais entendu parler d’algèbre (comme les élèves de l’époque). Et vous verrez qu’à Bagdad\, au 9e siècle\, on entrait dans l’algèbre comme dans un moulin. Après l’entrée\, ça changeait ; mais de cela\, ils ne vous parleront pas. \n\n\n\n\n\n\n\n\n\n\n\n\n\n\n\n\n\n\n\n\n\n\n\n\n\n\n\n\n\n\n\n\n\n\n\n\n\n\n\n\n\n\n\n\n\n\n\n\n\n\n\n\n\n\n\n\n\nCette page est tirée du site de l’UNAB.
URL:https://www.arb-cdb.ch/event/conference-unab-211216/
LOCATION:Musée d’histoire naturelle\, Bernastrasse 15\, 3005 Berne\, Suisse
CATEGORIES:Conférence,Payant pour les non-membres
ORGANIZER;CN="Universit%C3%A9 des A%C3%AEn%C3%A9s de langue fran%C3%A7aise de Berne   ( UNAB )":MAILTO:unab@bluewin.ch
END:VEVENT
END:VCALENDAR