BEGIN:VCALENDAR
VERSION:2.0
PRODID:-//Association Romande et francophone de Berne et environs - ECPv6.15.20//NONSGML v1.0//EN
CALSCALE:GREGORIAN
METHOD:PUBLISH
X-ORIGINAL-URL:https://www.arb-cdb.ch
X-WR-CALDESC:Évènements pour Association Romande et francophone de Berne et environs
REFRESH-INTERVAL;VALUE=DURATION:PT1H
X-Robots-Tag:noindex
X-PUBLISHED-TTL:PT1H
BEGIN:VTIMEZONE
TZID:Europe/Paris
BEGIN:DAYLIGHT
TZOFFSETFROM:+0100
TZOFFSETTO:+0200
TZNAME:CEST
DTSTART:20200329T010000
END:DAYLIGHT
BEGIN:STANDARD
TZOFFSETFROM:+0200
TZOFFSETTO:+0100
TZNAME:CET
DTSTART:20201025T010000
END:STANDARD
BEGIN:DAYLIGHT
TZOFFSETFROM:+0100
TZOFFSETTO:+0200
TZNAME:CEST
DTSTART:20210328T010000
END:DAYLIGHT
BEGIN:STANDARD
TZOFFSETFROM:+0200
TZOFFSETTO:+0100
TZNAME:CET
DTSTART:20211031T010000
END:STANDARD
BEGIN:DAYLIGHT
TZOFFSETFROM:+0100
TZOFFSETTO:+0200
TZNAME:CEST
DTSTART:20220327T010000
END:DAYLIGHT
BEGIN:STANDARD
TZOFFSETFROM:+0200
TZOFFSETTO:+0100
TZNAME:CET
DTSTART:20221030T010000
END:STANDARD
END:VTIMEZONE
BEGIN:VEVENT
DTSTART;TZID=Europe/Paris:20211113T103000
DTEND;TZID=Europe/Paris:20211113T143000
DTSTAMP:20260421T170911
CREATED:20210827T045938Z
LAST-MODIFIED:20211029T083348Z
UID:6831-1636799400-1636813800@www.arb-cdb.ch
SUMMARY:Excursion de l'ARB 2021
DESCRIPTION:L’Actuel à l’Association romande et francophone de Berne et environs (ARB) a le plaisir de vous inviter à une visite insolite de Berne\, selon le programme ci-dessous\nComplet !
URL:https://www.arb-cdb.ch/event/excursion-de-larb-2021/
LOCATION:ville de Berne
CATEGORIES:Excursion,Gratuit,Payant pour les non-membres,sur inscription
END:VEVENT
BEGIN:VEVENT
DTSTART;TZID=Europe/Paris:20211113T193000
DTEND;TZID=Europe/Paris:20211113T193000
DTSTAMP:20260421T170911
CREATED:20211029T102202Z
LAST-MODIFIED:20211110T201116Z
UID:7067-1636831800-1636831800@www.arb-cdb.ch
SUMMARY:Brahms et ses amis\, un concert de l'Oratorienchor Bern
DESCRIPTION:Après deux grands concerts annulés en avril 2020 (Beethoven) et 2021 (Verdi) en raison de la pandémie\, les activités de l’Oratorienchor Bern (OCB)  ont enfin pu reprendre à un rythme (presque) normal. C’est avec enthousiasme que pour recommencer\, nous donnerons un « petit » concert à l’Église française de Berne\, le samedi 13 nov. 2021\, à 19h30\, accompagnés de pianistes et d’un (seul) soliste vocal. Au programme de la musique purement romantique de Dvorak\, de Robert et Clara Schumann\, et de Brahms (ses célèbres Liebesliederwalzer). Ci-dessous le programme (en allemand) avec tous les détails. Une version en français est à disposition ici.\nLe prix unique des billets est de 30 francs\, et les places ne sont pas numérotées. L’achat des billets peut se faire le soir même\, à l’entrée de l’église.
URL:https://www.arb-cdb.ch/event/brahms-et-ses-amis-un-concert-de-loratorienchor-bern/
LOCATION:Église française de Berne\, Zeughausgasse 8\, 3011 Berne\, Switzerland
CATEGORIES:Musique,Ouvert à tous,Payant
END:VEVENT
END:VCALENDAR