BEGIN:VCALENDAR
VERSION:2.0
PRODID:-//Association Romande et francophone de Berne et environs - ECPv6.15.20//NONSGML v1.0//EN
CALSCALE:GREGORIAN
METHOD:PUBLISH
X-WR-CALNAME:Association Romande et francophone de Berne et environs
X-ORIGINAL-URL:https://www.arb-cdb.ch
X-WR-CALDESC:Évènements pour Association Romande et francophone de Berne et environs
REFRESH-INTERVAL;VALUE=DURATION:PT1H
X-Robots-Tag:noindex
X-PUBLISHED-TTL:PT1H
BEGIN:VTIMEZONE
TZID:Europe/Paris
BEGIN:DAYLIGHT
TZOFFSETFROM:+0100
TZOFFSETTO:+0200
TZNAME:CEST
DTSTART:20200329T010000
END:DAYLIGHT
BEGIN:STANDARD
TZOFFSETFROM:+0200
TZOFFSETTO:+0100
TZNAME:CET
DTSTART:20201025T010000
END:STANDARD
BEGIN:DAYLIGHT
TZOFFSETFROM:+0100
TZOFFSETTO:+0200
TZNAME:CEST
DTSTART:20210328T010000
END:DAYLIGHT
BEGIN:STANDARD
TZOFFSETFROM:+0200
TZOFFSETTO:+0100
TZNAME:CET
DTSTART:20211031T010000
END:STANDARD
BEGIN:DAYLIGHT
TZOFFSETFROM:+0100
TZOFFSETTO:+0200
TZNAME:CEST
DTSTART:20220327T010000
END:DAYLIGHT
BEGIN:STANDARD
TZOFFSETFROM:+0200
TZOFFSETTO:+0100
TZNAME:CET
DTSTART:20221030T010000
END:STANDARD
END:VTIMEZONE
BEGIN:VEVENT
DTSTART;TZID=Europe/Paris:20211107T100000
DTEND;TZID=Europe/Paris:20211107T153000
DTSTAMP:20260419T181334
CREATED:20211025T094456Z
LAST-MODIFIED:20211025T095735Z
UID:7033-1636279200-1636299000@www.arb-cdb.ch
SUMMARY:Fête de l'église française
DESCRIPTION:Fête de l’église française – 30 ans du CAP et des grandes orgues\nNous avons le plaisir de vous inviter à la prochaine Fête de l’église française.\nEn 1991\, trois ans de gros travaux s’achevaient. Le chœur de l’église retrouvait son volume d’origine\, les locaux du CAP étaient achevés et les grandes orgues étaient restaurées et dotées d’une nouvelle mécanique  Nous célébrerons dignement ce jubilé\, selon un programme que vous trouverez ci-dessous. \nMerci de vous inscrire dès maintenant mais au plus tard le 1er novembre.\nLe certificat COVID sera demandé pour participer à la fête.\n\n		\n			\n			\n		\n\n		 \n 
URL:https://www.arb-cdb.ch/event/fete-de-l_eglise-francaise2021/
LOCATION:Paroisse française réformée de Berne\, Predigergasse 3\, Berne\, 3011\, Suisse
CATEGORIES:Animation,Collecte,Ouvert à tous,Payant,sur inscription
END:VEVENT
END:VCALENDAR