BEGIN:VCALENDAR
VERSION:2.0
PRODID:-//Association Romande et francophone de Berne et environs - ECPv6.15.20//NONSGML v1.0//EN
CALSCALE:GREGORIAN
METHOD:PUBLISH
X-ORIGINAL-URL:https://www.arb-cdb.ch
X-WR-CALDESC:Évènements pour Association Romande et francophone de Berne et environs
REFRESH-INTERVAL;VALUE=DURATION:PT1H
X-Robots-Tag:noindex
X-PUBLISHED-TTL:PT1H
BEGIN:VTIMEZONE
TZID:Europe/Paris
BEGIN:DAYLIGHT
TZOFFSETFROM:+0100
TZOFFSETTO:+0200
TZNAME:CEST
DTSTART:20200329T010000
END:DAYLIGHT
BEGIN:STANDARD
TZOFFSETFROM:+0200
TZOFFSETTO:+0100
TZNAME:CET
DTSTART:20201025T010000
END:STANDARD
BEGIN:DAYLIGHT
TZOFFSETFROM:+0100
TZOFFSETTO:+0200
TZNAME:CEST
DTSTART:20210328T010000
END:DAYLIGHT
BEGIN:STANDARD
TZOFFSETFROM:+0200
TZOFFSETTO:+0100
TZNAME:CET
DTSTART:20211031T010000
END:STANDARD
BEGIN:DAYLIGHT
TZOFFSETFROM:+0100
TZOFFSETTO:+0200
TZNAME:CEST
DTSTART:20220327T010000
END:DAYLIGHT
BEGIN:STANDARD
TZOFFSETFROM:+0200
TZOFFSETTO:+0100
TZNAME:CET
DTSTART:20221030T010000
END:STANDARD
END:VTIMEZONE
BEGIN:VEVENT
DTSTART;TZID=Europe/Paris:20210503T141500
DTEND;TZID=Europe/Paris:20210503T163000
DTSTAMP:20260419T182148
CREATED:20200802T105351Z
LAST-MODIFIED:20200802T110136Z
UID:5782-1620051300-1620059400@www.arb-cdb.ch
SUMMARY:Séminaire UNAB de M. René SPALINGER (2/3)
DESCRIPTION:Séminaire en trois volets de M. René SPALINGER\n\nMusicien\, chef d’orchestre et conférencier \nDe la Renaissance au jeune Beethoven – l’évolution de l’expression musicale (2e partie)\n\n\n\nA la Renaissance\, le seul objectif musical fut d’exprimer l’émotion et rien que l’émotion. Le style baroque qui suivit fut une période de splendeur dans l’éclosion des formes musicales et un vrai triomphe pour l’expression des sentiments humains. \n« L’ère baroque fondera l’essentiel de sa pensée sur le monde comme illusion\, la vie comme représentation\, la société comme théâtre et jeu de rôles » (Philippe Beaussant). \nCependant la rigueur de sa construction\, les contraintes imposées par ce mode de composition et le manque de souplesse pour une expression plus libre du Siècle des Lumières conduisirent à sa transformation\, puis à sa disparition au profit d’une liberté plus épanouie\, celle qui porte le nom de style classique. Mozart écrit dans sa lettre du 26 septembre 1781\, à propos de L’Enlèvement au Sérail\, à venir : « les passions\, qu’elles soient violentes ou non\, ne doivent jamais être exprimées jusqu’au dégoût\, et la musique\, même dans la situation la plus terrible ne doit jamais offenser l’oreille\, mais là encore la charmer\, enfin rester toujours de la musique. » \nNous nous arrêterons sur le jeune Beethoven\, du début des années 1800\, encore sous l’influence de Haydn et de Mozart. \nCe séminaire permettra de mettre en lumière cette évolution musicale\, en considérant chaque époque comme un passage et non un aboutissement\, un cheminement vers plus de liberté intérieure. \n\n\n\n\n\n\n\nInscription: ici \nPapillon: ici \nCette page est tirée du site de l’UNAB.
URL:https://www.arb-cdb.ch/event/unab-spalinger-2/
LOCATION:Université de Berne\, Hochschulstrasse 4\, Berne\, 3012\, Suisse
CATEGORIES:Payant,Payant pour les non-membres,Séminaire
ORGANIZER;CN="Universit%C3%A9 des A%C3%AEn%C3%A9s de langue fran%C3%A7aise de Berne   ( UNAB )":MAILTO:unab@bluewin.ch
END:VEVENT
END:VCALENDAR