BEGIN:VCALENDAR
VERSION:2.0
PRODID:-//Association Romande et francophone de Berne et environs - ECPv6.15.20//NONSGML v1.0//EN
CALSCALE:GREGORIAN
METHOD:PUBLISH
X-WR-CALNAME:Association Romande et francophone de Berne et environs
X-ORIGINAL-URL:https://www.arb-cdb.ch
X-WR-CALDESC:Évènements pour Association Romande et francophone de Berne et environs
REFRESH-INTERVAL;VALUE=DURATION:PT1H
X-Robots-Tag:noindex
X-PUBLISHED-TTL:PT1H
BEGIN:VTIMEZONE
TZID:Europe/Paris
BEGIN:DAYLIGHT
TZOFFSETFROM:+0100
TZOFFSETTO:+0200
TZNAME:CEST
DTSTART:20190331T010000
END:DAYLIGHT
BEGIN:STANDARD
TZOFFSETFROM:+0200
TZOFFSETTO:+0100
TZNAME:CET
DTSTART:20191027T010000
END:STANDARD
BEGIN:DAYLIGHT
TZOFFSETFROM:+0100
TZOFFSETTO:+0200
TZNAME:CEST
DTSTART:20200329T010000
END:DAYLIGHT
BEGIN:STANDARD
TZOFFSETFROM:+0200
TZOFFSETTO:+0100
TZNAME:CET
DTSTART:20201025T010000
END:STANDARD
BEGIN:DAYLIGHT
TZOFFSETFROM:+0100
TZOFFSETTO:+0200
TZNAME:CEST
DTSTART:20210328T010000
END:DAYLIGHT
BEGIN:STANDARD
TZOFFSETFROM:+0200
TZOFFSETTO:+0100
TZNAME:CET
DTSTART:20211031T010000
END:STANDARD
END:VTIMEZONE
BEGIN:VEVENT
DTSTART;TZID=Europe/Paris:20200227T141500
DTEND;TZID=Europe/Paris:20200227T161500
DTSTAMP:20260420T183749
CREATED:20190630T133219Z
LAST-MODIFIED:20190630T140458Z
UID:4485-1582812900-1582820100@www.arb-cdb.ch
SUMMARY:Conférence UNAB
DESCRIPTION:Mme Suzette SANDOZ\n\nAncienne conseillère nationale \nGilets jaunes : quelques réflexions sur la démocratie directe\nLe mouvement des gilets jaunes a incité certains politiciens français et même le président Macron à ironiser sur la démocratie directe à la Suisse. C’est l’occasion de souligner la différence essentielle qu’il y a entre les gilets jaunes et la démocratie en général\, et plus spécifiquement entre eux et la démocratie directe helvétique. Mais les gilets jaunes sont aussi une occasion de se pencher sur la démocratie en général et sur la nôtre en particulier et de se demander si des dangers la guettent et\, en cas de réponse positive\, lesquels\, puis de chercher alors comment y parer et même comment améliorer nos institutions si nécessaire. \n\n\nCette page est tirée du site de l’UNAB.
URL:https://www.arb-cdb.ch/event/conference-unab-2019-c17/
LOCATION:Musée d’histoire naturelle\, Bernastrasse 15\, 3005 Berne\, Suisse
CATEGORIES:Conférence,Payant pour les non-membres
ORGANIZER;CN="Universit%C3%A9 des A%C3%AEn%C3%A9s de langue fran%C3%A7aise de Berne   ( UNAB )":MAILTO:unab@bluewin.ch
END:VEVENT
END:VCALENDAR